BEGIN:VCALENDAR
VERSION:2.0
PRODID:-//Computational Science - ECPv6.15.16//NONSGML v1.0//EN
CALSCALE:GREGORIAN
METHOD:PUBLISH
X-WR-CALNAME:Computational Science
X-ORIGINAL-URL:https://computationalscience.uci.edu
X-WR-CALDESC:Events for Computational Science
REFRESH-INTERVAL;VALUE=DURATION:PT1H
X-Robots-Tag:noindex
X-PUBLISHED-TTL:PT1H
BEGIN:VTIMEZONE
TZID:UTC
BEGIN:STANDARD
TZOFFSETFROM:+0000
TZOFFSETTO:+0000
TZNAME:UTC
DTSTART:20220101T000000
END:STANDARD
END:VTIMEZONE
BEGIN:VEVENT
DTSTART;TZID=UTC:20230407T153000
DTEND;TZID=UTC:20230407T163000
DTSTAMP:20260421T210401
CREATED:20221116T174058Z
LAST-MODIFIED:20221116T174058Z
UID:799-1680881400-1680885000@computationalscience.uci.edu
SUMMARY:CSRC Colloquium - Prasanna Balaprakash
DESCRIPTION:Title:  Democratizing Deep Learning Development with DeepHyper \nAbstract:  In recent years\, deep neural networks (DNNs) have achieved considerable success in learning complex nonlinear relationships between features and targets from large datasets. Nevertheless\, designing high-performing DNN architecture for a given data set is an expert-driven\, time-consuming\, trial-and-error manual task. A major bottleneck in the construction of DNNs is the vast search space of architectures that need to be explored in the face of new data sets. Moreover\, DNNs typically require user-specified values for hyperparameters\, which strongly influence performance factors such as training time and prediction accuracy. In this talk\, we will introduce participants to DeepHyper\, a scalable automated machine learning package for developing deep neural networks. DeepHyper provides an infrastructure that targets experimental research in neural architecture search (NAS) and hyperparameter search (HPS) methods\, scalability\, and portability across diverse supercomputers through the use of the different workflow manager. \nSpeaker: Prasanna Balaprakash\, Computer Scientist\, Argonne National Laboratory \nBio: Prasanna Balaprakash is a computer scientist with a joint appointment in the Mathematics and Computer Science Division and the Leadership Computing Facility at Argonne National Laboratory. His research work spans the areas of artificial intelligence\, machine learning\, optimization\, and high-performance computing. He is a recipient of the U.S. Department of Energy 2018 Early Career Award. Prior to Argonne\, he worked as a Chief Technology Officer at Mentis Sprl\, a machine learning startup in Brussels\, Belgium. He received his PhD from CoDE-IRIDIA (AI Lab)\, UniversitÃ Libre de Bruxelles\, Brussels\, Belgium\, where he was a recipient of European Commissions Marie Curie and Belgian F.R.S-FNRS Aspirant fellowships. \nPresenter Website: http://pbalapra.github.io/\nDepartment Link: https://deephyper.readthedocs.io/en/latest/
URL:https://computationalscience.uci.edu/event/csrc-colloquium-prasanna-balaprakash/
LOCATION:Virtual Zoom Seminar
END:VEVENT
END:VCALENDAR